BEGIN:VCALENDAR
VERSION:2.0
PRODID:-//Bodhisattva KumariDevi-Embodied Awakening - ECPv6.15.20//NONSGML v1.0//EN
CALSCALE:GREGORIAN
METHOD:PUBLISH
X-ORIGINAL-URL:https://www.kumarainstitute.com
X-WR-CALDESC:Events for Bodhisattva KumariDevi-Embodied Awakening
REFRESH-INTERVAL;VALUE=DURATION:PT1H
X-Robots-Tag:noindex
X-PUBLISHED-TTL:PT1H
BEGIN:VTIMEZONE
TZID:America/Denver
BEGIN:DAYLIGHT
TZOFFSETFROM:-0700
TZOFFSETTO:-0600
TZNAME:MDT
DTSTART:20250309T090000
END:DAYLIGHT
BEGIN:STANDARD
TZOFFSETFROM:-0600
TZOFFSETTO:-0700
TZNAME:MST
DTSTART:20251102T080000
END:STANDARD
BEGIN:DAYLIGHT
TZOFFSETFROM:-0700
TZOFFSETTO:-0600
TZNAME:MDT
DTSTART:20260308T090000
END:DAYLIGHT
BEGIN:STANDARD
TZOFFSETFROM:-0600
TZOFFSETTO:-0700
TZNAME:MST
DTSTART:20261101T080000
END:STANDARD
BEGIN:DAYLIGHT
TZOFFSETFROM:-0700
TZOFFSETTO:-0600
TZNAME:MDT
DTSTART:20270314T090000
END:DAYLIGHT
BEGIN:STANDARD
TZOFFSETFROM:-0600
TZOFFSETTO:-0700
TZNAME:MST
DTSTART:20271107T080000
END:STANDARD
END:VTIMEZONE
BEGIN:VEVENT
DTSTART;TZID=America/Denver:20260122T190000
DTEND;TZID=America/Denver:20260122T200000
DTSTAMP:20260423T051535
CREATED:20251226T225502Z
LAST-MODIFIED:20251226T231003Z
UID:58315-1769108400-1769112000@www.kumarainstitute.com
SUMMARY:12 Steps to Awakening
DESCRIPTION:12 Steps to Awakening Program starts. Repeats each month for one year. Commit to the year and receive a discount. A monthly opportunity to unfold into spiritual awakening. Discover more Here. 
URL:https://www.kumarainstitute.com/event/12-steps-to-awakening/
LOCATION:Tele-Class
CATEGORIES:Emotional Healing
ATTACH;FMTTYPE=image/jpeg:https://www.kumarainstitute.com/wp-content/uploads/2025/12/steps-awakening.jpg
END:VEVENT
END:VCALENDAR